BEGIN:VCALENDAR
VERSION:2.0
PRODID:-//ChamberMaster//Event Calendar 2.0//EN
METHOD:PUBLISH
X-PUBLISHED-TTL:P3D
REFRESH-INTERVAL:P3D
CALSCALE:GREGORIAN
BEGIN:VEVENT
DTSTART:20260613T133000Z
DTEND:20260613T143000Z
X-MICROSOFT-CDO-ALLDAYEVENT:FALSE
SUMMARY:LEVIATHANS & MICROBES: INVASIVE PLANTS & PATHOGENS
DESCRIPTION:This is a fundraising event for the Honeywood Arena renovation project.\n\n\n\nJoin us and learn about Leviathans & Microbes: Invasive Plants & Pathogens.\n\n\n\nTo learn more\, go to the link and sign up.   Limited Seating.
X-ALT-DESC;FMTTYPE=text/html:This is a fundraising event for the Honeywood Arena renovation project.<br />\n<br />\nJoin us and learn about Leviathans &amp\; Microbes: Invasive Plants &amp\; Pathogens.<br />\n<br />\nTo learn more\, go to the link and sign up.&nbsp\; &nbsp\;Limited Seating.
LOCATION:Mulmur Township Building - Terra Nova\, Mulmur
UID:e.3494.2661
SEQUENCE:3
DTSTAMP:20260421T234126Z
URL:http://business.dufferinbot.ca/events/details/leviathans-microbes-invasive-plants-pathogens-2661
END:VEVENT

END:VCALENDAR
