BEGIN:VCALENDAR
VERSION:2.0
PRODID:-//ChamberMaster//Event Calendar 2.0//EN
METHOD:PUBLISH
X-PUBLISHED-TTL:P3D
REFRESH-INTERVAL:P3D
CALSCALE:GREGORIAN
BEGIN:VEVENT
DTSTART:20260310T170000Z
DTEND:20260310T180000Z
X-MICROSOFT-CDO-ALLDAYEVENT:FALSE
SUMMARY:Dealing With Difficult People: Free Online Event!
DESCRIPTION:We've all worked with someone we might label as "difficult": The colleague who shuts down. The one who overreacts. The teammate who resists every change.\n\nBut what if those behaviours aren't about personality flaws or fixed traits? What if they're stress responses?\n\nIn this one-hour panel discussion\, we'll explore what's really happening beneath challenging workplace behaviours. Drawing on research about stress\, communication\, and human behaviour\, our panel of experts will unpack why certain dynamics get stuck in endless loops\, how unmet needs drive conflict\, and what we can do in the moment to navigate tension with more clarity and confidence.\n\nWhether you're leading a team or simply trying to survive one\, this session will help you see challenging behaviour through a new lens   one that opens the door to creating more understanding\, more effective conversations\, and stronger working relationships.
X-ALT-DESC;FMTTYPE=text/html:<p>We&rsquo\;ve all worked with someone we might label as &ldquo\;difficult&rdquo\;: The colleague who shuts down. The one who overreacts. The teammate who resists every change.</p>\n\n<p>But what if those behaviours aren&rsquo\;t about personality flaws or fixed traits? What if they&rsquo\;re stress responses?</p>\n\n<p>In this one-hour panel discussion\, we&rsquo\;ll explore what&rsquo\;s really happening beneath challenging workplace behaviours. Drawing on research about stress\, communication\, and human behaviour\, our panel of experts will unpack why certain dynamics get stuck in endless loops\, how unmet needs drive conflict\, and what we can do in the moment to navigate tension with more clarity and confidence.</p>\n\n<p>Whether you&rsquo\;re leading a team or simply trying to survive one\, this session will help you see challenging behaviour through a new lens &ndash\; one that opens the door to creating more understanding\, more effective conversations\, and stronger working relationships.</p>\n
LOCATION:Online: Zoom Hosted by The Expert Talk Click here to register for this FREE event https://www.theexperttalk.com/panel-discussion-dealing-with-difficult-people-registration/
UID:e.3494.2652
SEQUENCE:3
DTSTAMP:20260420T083555Z
URL:https://business.dufferinbot.ca/events/details/dealing-with-difficult-people-free-online-event-2652
END:VEVENT

END:VCALENDAR
