BEGIN:VCALENDAR
VERSION:2.0
PRODID:-//ChamberMaster//Event Calendar 2.0//EN
METHOD:PUBLISH
X-PUBLISHED-TTL:P3D
REFRESH-INTERVAL:P3D
CALSCALE:GREGORIAN
BEGIN:VEVENT
DTSTART:20201127T000000Z
DTEND:20201127T011500Z
X-MICROSOFT-CDO-ALLDAYEVENT:FALSE
SUMMARY:Dufferin Women in Business Recognition Awards - Mix\, Mingle\, and Jingle
DESCRIPTION:This November we will still celebrate together virtually with the Dufferin Women in Business Recognition Awards and Networking Event.\n\nThis online networking and awards event will allow you to Mix\, Mingle & Jingle in the comfort of your own home!  These fun awards will celebrate talent and achievements in a new way\, recognizing businesses and individuals that have given back and improved life in our community. This one-time event will incorporate online nominations and voting and a few fun\, festive\, and surprise awards to be determined on the night of the event!
X-ALT-DESC;FMTTYPE=text/html:<h3><span style="font-size:14px\;"><span style="font-family:tahoma\;">This November we will still celebrate together virtually with the Dufferin Women in Business Recognition Awards and Networking Event.</span></span></h3>\n\n<p><span style="font-size:14px\;">This online networking and awards event will allow you to Mix\, Mingle &amp\; Jingle in the comfort of your own home!&nbsp\; These fun awards will celebrate talent and achievements in a new way\, recognizing businesses and individuals that have given back and improved life in our community. This one-time event will incorporate online nominations and voting and a few fun\, festive\, and surprise awards to be determined on the night of the event!</span></p>\n
LOCATION:Online via Zoom. Link will be sent out the day of the event
UID:e.3494.2321
SEQUENCE:3
DTSTAMP:20260420T101402Z
URL:https://business.dufferinbot.ca/events/details/dufferin-women-in-business-recognition-awards-mix-mingle-and-jingle-2321
END:VEVENT

END:VCALENDAR
