BEGIN:VCALENDAR
VERSION:2.0
PRODID:-//ChamberMaster//Event Calendar 2.0//EN
METHOD:PUBLISH
X-PUBLISHED-TTL:P3D
REFRESH-INTERVAL:P3D
CALSCALE:GREGORIAN
BEGIN:VEVENT
DTSTART:20260530T133000Z
DTEND:20260530T143000Z
X-MICROSOFT-CDO-ALLDAYEVENT:FALSE
SUMMARY:GOOD BUGS\, BAD BUGS: WORKING WITH NATURE
DESCRIPTION:This is a fundraising event for the Honeywood Arena renovation project put on by Hill'N Dale Landscaping.\n\n\n\nLearn about 'Good Bugs\, Bad Bugs: Working With Nature'\n\n\n\nJoin us for this 60-minute seminar
X-ALT-DESC;FMTTYPE=text/html:This is a fundraising event for the Honeywood Arena renovation project put on by Hill&#39\;N Dale Landscaping.<br />\n<br />\nLearn about &#39\;Good Bugs\, Bad Bugs: Working&nbsp\;<em>With&nbsp\;</em>Nature&#39\;<br />\n<br />\nJoin us for this 60-minute seminar
LOCATION:Mulmur Township Building\, Terra Nova\, Mulmur Township
UID:e.3494.2660
SEQUENCE:3
DTSTAMP:20260420T214804Z
URL:https://business.dufferinbot.ca/events/details/good-bugs-bad-bugs-working-with-nature-2660
END:VEVENT

END:VCALENDAR
