BEGIN:VCALENDAR
VERSION:2.0
PRODID:-//ChamberMaster//Event Calendar 2.0//EN
METHOD:PUBLISH
X-PUBLISHED-TTL:P3D
REFRESH-INTERVAL:P3D
CALSCALE:GREGORIAN
BEGIN:VEVENT
DTSTART:20260509T133000Z
DTEND:20260509T143000Z
X-MICROSOFT-CDO-ALLDAYEVENT:FALSE
SUMMARY:Worthy New & Really Good Underused Plants
DESCRIPTION:This is a fundraiser for the Honeywood Arena renovation project!\n\n\n\nHill'N Dale Landscaping is presenting 3 Seminars this spring.\n\n\n\nThis seminar is 'Worthy New & Really Good Underused Plants'.  \n\n\n\nYou will learn and discover the next-gen plants and proven varieties\n\n\n\nTo find out more and to sign up for this limited-seating event\, see the link below.\n\n\n\nhttps://lp.constantcontactpages.com/ev/reg/7836c7y
X-ALT-DESC;FMTTYPE=text/html:This is a fundraiser for the Honeywood Arena renovation project!<br />\n<br />\nHill&#39\;N Dale Landscaping is presenting 3 Seminars this spring.<br />\n<br />\nThis seminar is &#39\;Worthy New &amp\; Really Good Underused Plants&#39\;.&nbsp\;&nbsp\;<br />\n<br />\nYou will learn and discover the next-gen plants and proven varieties<br />\n<br />\nTo find out more and to sign up for this limited-seating event\, see the link below.<br />\n<br />\nhttps://lp.constantcontactpages.com/ev/reg/7836c7y<br />\n<br />\n<br />\n&nbsp\;
LOCATION:Mulmur Township Building - North of Terra Nova\, Mulmur https://lp.constantcontactpages.com/ev/reg/7836c7y
UID:e.3494.2659
SEQUENCE:3
DTSTAMP:20260420T213903Z
URL:https://business.dufferinbot.ca/events/details/worthy-new-really-good-underused-plants-2659
END:VEVENT

END:VCALENDAR
